BEGIN:VCALENDAR
VERSION:2.0
PRODID:-//Eurobiomed - ECPv6.10.3//NONSGML v1.0//EN
CALSCALE:GREGORIAN
METHOD:PUBLISH
X-ORIGINAL-URL:https://www.eurobiomed.org
X-WR-CALDESC:Évènements pour Eurobiomed
REFRESH-INTERVAL;VALUE=DURATION:PT1H
X-Robots-Tag:noindex
X-PUBLISHED-TTL:PT1H
BEGIN:VTIMEZONE
TZID:Europe/Paris
BEGIN:DAYLIGHT
TZOFFSETFROM:+0100
TZOFFSETTO:+0200
TZNAME:CEST
DTSTART:20250330T010000
END:DAYLIGHT
BEGIN:STANDARD
TZOFFSETFROM:+0200
TZOFFSETTO:+0100
TZNAME:CET
DTSTART:20251026T010000
END:STANDARD
END:VTIMEZONE
BEGIN:VEVENT
DTSTART;TZID=Europe/Paris:20251105T110000
DTEND;TZID=Europe/Paris:20251105T120000
DTSTAMP:20260422T175954
CREATED:20251023T080150Z
LAST-MODIFIED:20251027T125125Z
UID:30614-1762340400-1762344000@www.eurobiomed.org
SUMMARY:Webinaire - Présentation des opportunités de financement européen sous Horizon Europe
DESCRIPTION:Enosis Santé\, l’alliance française des pôles de compétitivité en santé (BioValley France\,  Eurobiomed\, Lyonbiopôle Auvergne-Rhône-Alpes et Medicen Paris Région) et l’Agence de l’Innovation en Santé organisent un webinaire portant sur les opportunités de financement européen\, le 5 novembre à 11h. \nCe webinaire s’adresse aux acteurs de l’innovation en santé souhaitant mieux comprendre les mécanismes de financement européens et identifier les opportunités adaptées à leurs projets. \nProgramme : \n\nHorizon Europe: structure et fonctionnement du programme\nCluster Santé: présentation des appels à projets collaboratifs\nProgramme EIC: focus sur les appels Pathfinder\, Transition et Accelerator\nConseils pratiques: aides disponibles\, outils en ligne\, événements à ne pas manquer\nPrésentation du réseau EEN: accompagnement à la recherche de partenaires européens pour le montage de projets collaboratifs\n\n\nIntervenants :\n\nKévin Plouchart\, Chef de projet Europe & International\, Medicen Paris Region & PCN Santé\nIsabelle Pottier\, Responsable du Service EEN – Enterprise Europe Network & Responsable Filière Santé\, CCI Paris Ile-de-France
URL:https://www.eurobiomed.org/evenement/webinaire-presentation-des-opportunites-de-financement-europeen-sous-horizon-europe/
LOCATION:Webinaire\, Webinaire
CATEGORIES:Évènement expert
ATTACH;FMTTYPE=image/png:https://www.eurobiomed.org/wp-content/uploads/2025/10/Webinar-Enosis-AIS.png
END:VEVENT
BEGIN:VEVENT
DTSTART;TZID=Europe/Paris:20251106T150000
DTEND;TZID=Europe/Paris:20251106T160000
DTSTAMP:20260422T175954
CREATED:20251030T090326Z
LAST-MODIFIED:20251031T085021Z
UID:30747-1762441200-1762444800@www.eurobiomed.org
SUMMARY:Webinaire - Présentation de l’appel à projets “Étude d'impact de l'usage de dispositifs médicaux numériques innovants dans des établissements de santé ou du médico-social”
DESCRIPTION:Enosis Santé\, l’alliance française des pôles santé BioValley France\, Eurobiomed\, Lyonbiopôle Auvergne-Rhône-Alpes et Medicen Paris Region\, vous convie\, le 06 novembre 2025 à un webinaire de présentation par Bpifrance de l’appel à projets « Étude d’impact de l’usage de dispositifs médicaux numériques innovants dans des établissements de santé ou du médico-social ». \n			\n			\n				\n				\n				\n				\n			\n				\n				\n				\n				\n				\n				\n				\n				\n				\n				\n				Intervenants\n			\n				\n				\n				\n				\n				\n				\n				\n					\n			\n				\n			\n		   \n				  \n				   		\n					  \n					\n					\n					\n						Thomas CADIER\n						 \nBpifrance | Chargé de développement – Direction du pilotage des programmes et du support juridique \n\n						\n						\n						\n				\n				\n					\n					\n				\n			\n				 \n				   		\n					 \n					\n					\n					\n						Fatima HENICHE\n						 \n Bpifrance | Responsable sectoriel innovation – Direction des filières industrielles \n\n						\n						\n						\n				\n				\n					\n					\n				\n			\n				  \n				   		\n					  \n					\n					\n					\n						Aymeric PERCHANT\n						 \nMinistère de la Santé | National Coordinator of the "Digital Health Acceleration Strategy" \n\n						\n						\n						\n				\n				\n					\n					\n				\n			\n				  \n				   		\n					  \n					\n					\n					\n						Vincent VERCAMER\n						 \nMinistère de la Santé - Délégation au Numérique en Santé (DNS) | Directeur de projets \n\n						\n						\n						\n				\n				\n					\n					\n				\n			\n		\n		\n				\n			\n			\n				\n				\n				\n				\n			\n				\n				\n				\n				\n				\n				\n				\n				\n				\n				\n				Plus d’information sur cet appel à projets. 
URL:https://www.eurobiomed.org/evenement/webinaire-enosis-presentation-de-lappel-a-projets-etude-dimpact-de-lusage-de-dispositifs-medicaux-numeriques-innovants-dans-des-etablissements-de-sante-ou-du-medico-social/
LOCATION:Webinaire\, Webinaire
CATEGORIES:Évènement expert
ATTACH;FMTTYPE=image/png:https://www.eurobiomed.org/wp-content/uploads/2025/10/20251106_Webinaire-DMN-avec-French-Care.png
END:VEVENT
BEGIN:VEVENT
DTSTART;TZID=Europe/Paris:20251113T093000
DTEND;TZID=Europe/Paris:20251113T103000
DTSTAMP:20260422T175954
CREATED:20251015T160204Z
LAST-MODIFIED:20251103T164200Z
UID:30222-1763026200-1763029800@www.eurobiomed.org
SUMMARY:Webinaire - Cap sur l'Inde : décryptez les marchés pharma\, biotech et medtech
DESCRIPTION:Enosis Santé et Eurobiomed vous invitent à participer à un webinaire international exclusif consacré au marché indien de la santé\, un secteur en pleine expansion.Venez découvrir les opportunités uniques qu’offre ce marché émergent\, comprendre ses enjeux économiques et réglementaires\, et échanger avec des experts et acteurs clés déjà implantés sur place. Une occasion privilégiée pour anticiper les tendances et développer vos perspectives à l’international ! \n9h30 – Ouverture \n\n\n\nM. Simon Gudin\, Responsable des affaires internationales\, Enosis Santé – Lyonbiopôle\nM. Aurélien Sostaponti\, Directeur d’activité Export et Chef de pôle Art de vivre\, Business France Inde\n\n\n\n9h35 – Le marché de la santé en Inde : vision d’ensemble \n\n\n\nAnalyse macroéconomique : Mme Moulshree Dagar\, Adjointe au Délégué du Chef de SER\, Service Economique Régional pour l’Inde et l’Asie du Sud et M. Charles Mahy\, Conseiller Santé\, Ambassade de France en Inde\nLa relation France–Inde dans la santé : M. Charles Mahy\, Conseiller Santé\, Ambassade de France en Inde\nTendances et opportunités (Pharma\, Biotech\, Medtech) :Mme Kamala Govindarajan & Mme Savita Kothandaraman\, Business France Inde\n\n\n\n10h00 – Témoignages d’acteurs du secteur \n\n\n\nLupin Pharma (Inde) – Big Pharma indienne\nINTEROR (France) – Secteur pharmaceutique\nF2D Medical (France) – Secteur MedTech\n\n\n\n10h15 – Focus réglementation & bonnes pratiques \n\n\n\nLe cadre réglementaire en Inde : enjeux et conseils – Ms. Sophie Busonera\, Responsable d’études réglementaires – Business France Inde
URL:https://www.eurobiomed.org/evenement/webinaire-cap-sur-linde-decryptez-les-marches-pharma-biotech-et-medtech/
LOCATION:Webinaire\, Webinaire
CATEGORIES:Évènement expert
ATTACH;FMTTYPE=image/png:https://www.eurobiomed.org/wp-content/uploads/2025/10/12-novembre-2024-14h30-15h30.png
END:VEVENT
BEGIN:VEVENT
DTSTART;TZID=Europe/Paris:20251126T100000
DTEND;TZID=Europe/Paris:20251126T113000
DTSTAMP:20260422T175954
CREATED:20251107T162102Z
LAST-MODIFIED:20251107T162444Z
UID:30955-1764151200-1764156600@www.eurobiomed.org
SUMMARY:European Medicines Agency: Regulatory Support Tools for Innovative Medicines & Technologies Developers
DESCRIPTION:The Council of European Bioregions (CEBR) is a European network bringing together around 50 health clusters\, including Eurobiomed. \nFor this exclusive webinar\, CEBR is partnering with the European Medicines Agency (EMA) to present the regulatory support tools available to developers of innovative medicines and health technologies. \nJoin us to hear directly from the EMA\, gain first-hand insights into their support mechanisms\, and ask your questions live to their experts. \nYou’ll hear from two key speakers from the EMA who will share their expertise and insights: \n\nHélène Casaert – Scientific Officer\, EMA\n\nHélène is a Scientific Officer within the SME Office\, where she provides dedicated support to small and medium-sized enterprises developing medicines in the EU and fosters innovation across the sector. \nBefore joining the EMA\, she worked as a Regulatory Affairs Manager in the pharmaceutical industry and in the clinical trials division of the French national competent authority. \n\nSebastian Asprella – Programme Lead\, EMA\n\nSebastian leads EU competitiveness initiatives at the EMA\, focusing on predictable\, science-based regulatory pathways that help clusters\, tech transfer offices\, and SMEs translate European scientific excellence into tangible patient benefits. \n 
URL:https://www.eurobiomed.org/evenement/european-medicines-agency-regulatory-support-tools-for-innovative-medicines-technologies-developers/
LOCATION:Webinaire\, Webinaire
CATEGORIES:Évènement expert
ATTACH;FMTTYPE=image/png:https://www.eurobiomed.org/wp-content/uploads/2025/11/Visuel-CEBR-x-EMA.png
END:VEVENT
BEGIN:VEVENT
DTSTART;TZID=Europe/Paris:20251128T124500
DTEND;TZID=Europe/Paris:20251128T134500
DTSTAMP:20260422T175954
CREATED:20251031T083022Z
LAST-MODIFIED:20251031T083254Z
UID:30806-1764333900-1764337500@www.eurobiomed.org
SUMMARY:Webinaire d'informations - Programme Invest In Biomed
DESCRIPTION:Besoin de consolider votre stratégie de financement\, rendre votre projet “VC compatible” et accélérer vos connexions avec les investisseurs en santé ? Découvrez comment le programme Invest In Biomed par Eurobiomed peut vous y aider ! \nParticipez à notre webinaire d’information  le vendredi 28 novembre de 12h45 à 13h45 \n\nPrésentation du programme : du contenu\, de ses modalités et de ses objectifs\nRetours d’expérience de 3 participants de l’édition 2025 : Sarah Colombani – CEO OcciCal Therapeutics\, Agnès MARTINEC – COO CYBERNA et Jean-Francois HILAIRE – CEO IPSOMEL\nTemps d’échange pour poser toutes vos questions\n\nL’équipe Eurobiomed reste disponible pour répondre à toutes vos questions sur le programme.
URL:https://www.eurobiomed.org/evenement/webinaire-dinformations-programme-invest-in-biomed/
LOCATION:Webinaire\, Webinaire
CATEGORIES:Évènement expert
ATTACH;FMTTYPE=image/png:https://www.eurobiomed.org/wp-content/uploads/2025/10/IIB26_Visuel-webinaire-1211-1.png
END:VEVENT
END:VCALENDAR