BEGIN:VCALENDAR
VERSION:2.0
PRODID:-//Eurobiomed - ECPv6.10.3//NONSGML v1.0//EN
CALSCALE:GREGORIAN
METHOD:PUBLISH
X-WR-CALNAME:Eurobiomed
X-ORIGINAL-URL:https://www.eurobiomed.org
X-WR-CALDESC:Évènements pour Eurobiomed
REFRESH-INTERVAL;VALUE=DURATION:PT1H
X-Robots-Tag:noindex
X-PUBLISHED-TTL:PT1H
BEGIN:VTIMEZONE
TZID:Europe/Paris
BEGIN:DAYLIGHT
TZOFFSETFROM:+0100
TZOFFSETTO:+0200
TZNAME:CEST
DTSTART:20260329T010000
END:DAYLIGHT
BEGIN:STANDARD
TZOFFSETFROM:+0200
TZOFFSETTO:+0100
TZNAME:CET
DTSTART:20261025T010000
END:STANDARD
END:VTIMEZONE
BEGIN:VEVENT
DTSTART;TZID=Europe/Paris:20261006T080000
DTEND;TZID=Europe/Paris:20261008T170000
DTSTAMP:20260422T193441
CREATED:20251217T152830Z
LAST-MODIFIED:20251217T160040Z
UID:29591-1791273600-1791478800@www.eurobiomed.org
SUMMARY:Sachs Autumn Life Sciences Week 2026
DESCRIPTION:Eurobiomed vous invite à participer à la Sachs Autumn Life Sciences Week 2026\, un événement clé pour l’investissement dans le domaine de la santé en Europe\, qui rassemble des investisseurs\, des experts et des entreprises innovantes du secteur. \nPourquoi participer ? \n\nRencontres B2B avec des investisseurs/partenaires et des experts\nConférences stratégiques sur les tendances du marché et les opportunités de financement\nVisibilité internationale pour votre projet ou votre entreprise\n\nL’événement s’articule autour de deux volets distincts : l’un dédié aux technologies médicales\, l’autre aux biotechnologies. \n  \n13TH Annual Healthtech Investment Forum (HTIF)\n6 octobre 2026Bâle\, SuisseLe HTIF est un forum dédié aux entreprises spécialisées dans la santé numérique\, les technologies médicales et les dispositifs médicaux\, qui propose des présentations aux investisseurs\, des rencontres B2B et des tables rondes stratégiques.Informations à venir. \n25TH Annual Biotech  in Europe Forum (BEF)\n7 et 8 octobre 2026Bâle\, SuisseLe BEF est l’un des principaux forums européens de partenariat et d’investissement pour les entreprises biotechnologiques\, axé sur la collecte de fonds et les partenariats internationaux.Informations à venir. \nEurobiomed vous communiquera dès que possible les informations relatives aux inscriptions. Contactez Margot CONVERS-GOURHANT pour tous renseignements sur l’évènement. \n  \nOffre collective \nMontpellier Méditerranée Métropole et la Région Sud\, en partenariat avec Eurobiomed\, proposent une prise en charge de 30% des frais liés à l’achat de votre pass. Les places sont limitées\, n’hésitez pas à nous contacter rapidement pour vérifier votre éligibilité. \n\n\n			\n				\n				\n				\n				\n				EN PARTENARIAT AVEC
URL:https://www.eurobiomed.org/evenement/sachs-autumn-life-sciences-week-2026/
LOCATION:Mövenpick Hotel Basel\, Aeschengraben 25\, Basel\, 4051\, Switzerland
CATEGORIES:Conventions d'affaires
ATTACH;FMTTYPE=image/png:https://www.eurobiomed.org/wp-content/uploads/2025/09/Propelling-the-new-wave-of-innovation-4.png
END:VEVENT
END:VCALENDAR