BEGIN:VCALENDAR
VERSION:2.0
PRODID:-//Eurobiomed - ECPv6.10.3//NONSGML v1.0//EN
CALSCALE:GREGORIAN
METHOD:PUBLISH
X-WR-CALNAME:Eurobiomed
X-ORIGINAL-URL:https://www.eurobiomed.org
X-WR-CALDESC:Évènements pour Eurobiomed
REFRESH-INTERVAL;VALUE=DURATION:PT1H
X-Robots-Tag:noindex
X-PUBLISHED-TTL:PT1H
BEGIN:VTIMEZONE
TZID:Europe/Paris
BEGIN:DAYLIGHT
TZOFFSETFROM:+0100
TZOFFSETTO:+0200
TZNAME:CEST
DTSTART:20260329T010000
END:DAYLIGHT
BEGIN:STANDARD
TZOFFSETFROM:+0200
TZOFFSETTO:+0100
TZNAME:CET
DTSTART:20261025T010000
END:STANDARD
END:VTIMEZONE
BEGIN:VEVENT
DTSTART;TZID=Europe/Paris:20260407T093000
DTEND;TZID=Europe/Paris:20260407T170000
DTSTAMP:20260425T194532
CREATED:20260324T174113Z
LAST-MODIFIED:20260324T174113Z
UID:35617-1775554200-1775581200@www.eurobiomed.org
SUMMARY:Journée Horizon Europe : Santé\, Securité Civile\, Numérique
DESCRIPTION:Une journée dediée aux opportunités de financement de la recherche et de l’innovation au sein du programme HORIZON Europe : Présentation des programmes thématiques\, des appels à projets\, des dispositifs d’accompagnement en Région. Organisation d’ateliers thématiques et de rendez-vous individuels\n\n\n\n\n\n\nAu programme de cet évènement: \n\nPrésentation générale d’Horizon Europe\nPrésentation des opportunités de financement dans le Pilier 2 d’Horizon Europe\, et en particulier\, dans les clusters Santé\, Sécurité civile et Numérique\nPrésentation des opportunités de financement du Conseil Européen de l’Innovation (EIC)\nTémoignages de lauréats de ces différents programmes\nPrésentation des accompagnements possibles au niveau régional (EEN\, Pôles de compétitivité\, Cellules Europe\, Région) et national (Points de Contact Nationaux)\nAteliers autour des différents programmes couverts\nRendez-vous individuals
URL:https://www.eurobiomed.org/evenement/journee-horizon-europe-sante-securite-civile-numerique/
LOCATION:Pôle Alpha Sophia Antipolis\, 449 route des Crêtes\, Sophia Antipolis\, 06901\, France
CATEGORIES:Évènement de réseautage,Évènement expert
ATTACH;FMTTYPE=image/png:https://www.eurobiomed.org/wp-content/uploads/2026/03/Capture-decran-2026-03-24-184010.png
END:VEVENT
END:VCALENDAR