BEGIN:VCALENDAR
VERSION:2.0
PRODID:-//Eurobiomed - ECPv6.10.3//NONSGML v1.0//EN
CALSCALE:GREGORIAN
METHOD:PUBLISH
X-WR-CALNAME:Eurobiomed
X-ORIGINAL-URL:https://www.eurobiomed.org
X-WR-CALDESC:Évènements pour Eurobiomed
REFRESH-INTERVAL;VALUE=DURATION:PT1H
X-Robots-Tag:noindex
X-PUBLISHED-TTL:PT1H
BEGIN:VTIMEZONE
TZID:Europe/Paris
BEGIN:DAYLIGHT
TZOFFSETFROM:+0100
TZOFFSETTO:+0200
TZNAME:CEST
DTSTART:20260329T010000
END:DAYLIGHT
BEGIN:STANDARD
TZOFFSETFROM:+0200
TZOFFSETTO:+0100
TZNAME:CET
DTSTART:20261025T010000
END:STANDARD
END:VTIMEZONE
BEGIN:VEVENT
DTSTART;TZID=Europe/Paris:20260707T173000
DTEND;TZID=Europe/Paris:20260707T210000
DTSTAMP:20260422T214710
CREATED:20260313T153430Z
LAST-MODIFIED:20260416T151337Z
UID:35307-1783445400-1783458000@www.eurobiomed.org
SUMMARY:Diversité des modèles économiques en santé numérique : stratégies d’accès aux marchés et facteurs clés de succès
DESCRIPTION:[MISE A JOUR] Nouvelle date – 7 juillet 2026 \nRemboursement\, achat hospitalier\, référencement institutionnel\, partenariat industriel\, B2C… Les voies d’accès marché pour une solution de santé numérique sont multiples – et rarement linéaires. Prescripteurs\, utilisateurs et payeurs ne sont pas les mêmes acteurs. Les temporalités du marquage CE\, du remboursement et des partenariats commerciaux ne s’alignent pas toujours. Et les investisseurs exigent une maturité business model de plus en plus tôt. Comment naviguer dans cette complexité pour faire avancer au mieux votre projet ? \n\nVenez profiter des points de vues d’un investisseur en santé numérique et de deux entrepreneurs du secteur\, partager vos expériences et échanger avec les participants de ce forum. \n  \nINTERVENANTS\n  \n\nMathieu Trystram\, Directeur d’investissement santé\, Caisse des Dépôts\nEmilie Mercadal\, CEO\,  Rofim\, plateforme de télémédecine qui centralise la téléexpertise\, la téléconsultation et les RCP\, pour améliorer la coordination médicale\nPierre Hornus\, CEO\, Sêmeia\, solution de télésurveillance pour aider les soignants à accompagner plus efficacement les maladies chroniques\n\n  \nPROGRAMME\n  \n  \n			\n				\n				\n				\n				\n				\n				\n				\n					\n			\n				\n			\n		   \n				 \n				   		\n					 \n					\n					\n					\n						17h30 - Accueil \n						\n						\n						\n						\n				\n				\n					\n					\n				\n			\n				 \n				   		\n					 \n					\n					\n					\n						18h - Présentation/Table ronde\n						\n						\n						\n						\n				\n				\n					\n					\n				\n			\n				 \n				   		\n					 \n					\n					\n					\n						19h30 / 21h - Dîner\n						\n						\n						\n						\n				\n				\n					\n					\n				\n			\n		\n		\n				\n			\n				\n				\n				\n				\n				Remarque :Les places sont limitées. Des frais de participation de 50 € (hors TVA) seront facturés lors de l’inscription. \nVeuillez contacter Laurent Garnier pour plus d’informations.
URL:https://www.eurobiomed.org/evenement/diversite-des-modeles-economiques-en-sante-numerique-strategies-dacces-aux-marches-et-facteurs-cles-de-succes/
LOCATION:Hôtel & Spa Oceania Le Métropole Montpellier – 3 Rue du Clos René 34000 Montpellier\, 3 Rue du Clos René\, Montpellier\, 34000
CATEGORIES:Évènement expert
ATTACH;FMTTYPE=image/png:https://www.eurobiomed.org/wp-content/uploads/2026/03/forum-dirigeants-juillet.png
END:VEVENT
END:VCALENDAR