BEGIN:VCALENDAR
VERSION:2.0
PRODID:-//Eurobiomed - ECPv6.10.3//NONSGML v1.0//EN
CALSCALE:GREGORIAN
METHOD:PUBLISH
X-ORIGINAL-URL:https://www.eurobiomed.org
X-WR-CALDESC:Évènements pour Eurobiomed
REFRESH-INTERVAL;VALUE=DURATION:PT1H
X-Robots-Tag:noindex
X-PUBLISHED-TTL:PT1H
BEGIN:VTIMEZONE
TZID:Europe/Paris
BEGIN:DAYLIGHT
TZOFFSETFROM:+0100
TZOFFSETTO:+0200
TZNAME:CEST
DTSTART:20250330T010000
END:DAYLIGHT
BEGIN:STANDARD
TZOFFSETFROM:+0200
TZOFFSETTO:+0100
TZNAME:CET
DTSTART:20251026T010000
END:STANDARD
END:VTIMEZONE
BEGIN:VEVENT
DTSTART;TZID=Europe/Paris:20250702T100000
DTEND;TZID=Europe/Paris:20250702T110000
DTSTAMP:20260422T191712
CREATED:20250617T074632Z
LAST-MODIFIED:20250617T074637Z
UID:27790-1751450400-1751454000@www.eurobiomed.org
SUMMARY:Webinaire Enosis : Présentation de l'appel à projets Grand défi "Dispositifs médicaux numériques en santé mentale"
DESCRIPTION:Enosis Santé\, l’alliance française des pôles santé BioValley France\, Eurobiomed\, Lyonbiopôle Auvergne-Rhône-Alpes et Medicen Paris Region\, vous convie\, le 02 Juillet 2025 à un webinaire de présentation par Bpifrance de l’appel à projets « Dispositifs médicaux numériques en santé mentale ». \n			\n			\n				\n				\n				\n				\n			\n				\n				\n				\n				\n				\n				\n				\n				\n				\n				\n				Intervenants\n			\n				\n				\n				\n				\n				\n				\n				\n					\n			\n				\n			\n		   \n				 \n				   		\n					 \n					\n					\n					\n						Clémentine Lamarre\n						 \n Bpifrance | Responsable sectoriel innovation – Direction des filières industrielles \n\n						\n						\n						\n				\n				\n					\n					\n				\n			\n				  \n				   		\n					  \n					\n					\n					\n						Maelle Derboeuf\n						 \nBpifrance | Chargée de développement – Direction du pilotage des programmes et du support juridique \n\n						\n						\n						\n				\n				\n					\n					\n				\n			\n				 \n				   		\n					 \n					\n					\n					\n						Dr Line Farah\n						 \nMinistère de la Santé et de l’Accès aux Soins | Directrice des Grands Défis « DM Numériques et Bien vieillir » et « DM Numériques en Santé mentale »\, en charge des sujets relatifs à l’IA en santé \n\n						\n						\n						\n				\n				\n					\n					\n				\n			\n		\n		\n				\n			\n			\n				\n				\n				\n				\n			\n				\n				\n				\n				\n				\n				\n				\n				\n				\n				\n				Plus d’informations sur l’appel à projets
URL:https://www.eurobiomed.org/evenement/webinaire-enosis-presentation-de-lappel-a-projets-grand-defi-dispositifs-medicaux-numeriques-en-sante-mentale/
LOCATION:Webinaire\, Webinaire
CATEGORIES:Évènement expert
ATTACH;FMTTYPE=image/png:https://www.eurobiomed.org/wp-content/uploads/2025/06/Webinaire-ENOSIS-02-juillet.png
END:VEVENT
BEGIN:VEVENT
DTSTART;TZID=Europe/Paris:20250703T090000
DTEND;TZID=Europe/Paris:20250703T103000
DTSTAMP:20260422T191712
CREATED:20250625T085136Z
LAST-MODIFIED:20250626T064635Z
UID:28002-1751533200-1751538600@www.eurobiomed.org
SUMMARY:Webinaire Enosis: Doing Business in Japan
DESCRIPTION:Enosis Santé\, l’alliance française des pôles de compétitivité en santé (Eurobiomed\, Medicen Paris Région\, Lyonbiopôle et BioValley France)\, vous invite à clôturer la session Japon avec un webinaire Business dédié aux clés de réussite pour faire des affaires au Japon. \nAu programme : conseils pratiques\, retours d’expérience d’entreprises du secteur de la santé ayant conclu des partenariats fructueux avec des acteurs japonais\, et astuces concrètes pour aborder vos futures négociations en toute sérénité. \n\n\n\nAu programme: \n\n\n\nContexte économique du Japon – les grandes lignes\nSecteur de la santé – orientation\, compétition et opportunités pour l’offre française\nConseils interculturels pour réussir au Japon\n\nNicolas SESTIER – Business France et Anthony MALLET – Directeur Général de Servier Japon\n\n\nPartage de l’expérience d’Osivax sur la signature d’une option de licence avec un leader du vaccin japonais\n\nDelphine GUYON-GELLIN\, Chief Business Development Officer and Chief Operating Officer chez Osivax
URL:https://www.eurobiomed.org/evenement/doing-business-in-japan/
CATEGORIES:Évènement expert
ATTACH;FMTTYPE=image/png:https://www.eurobiomed.org/wp-content/uploads/2025/06/ENOSIS_Japon.png
END:VEVENT
BEGIN:VEVENT
DTSTART;TZID=Europe/Paris:20250704T123000
DTEND;TZID=Europe/Paris:20250704T133000
DTSTAMP:20260422T191712
CREATED:20250612T084232Z
LAST-MODIFIED:20250627T144216Z
UID:27513-1751632200-1751635800@www.eurobiomed.org
SUMMARY:Webinaire Enosis : Présentation de l’appel à projets du plan France 2030 "Soutenir l'innovation dans la stérilisation et la conception de DM respectueux de l’environnement"
DESCRIPTION:Enosis Santé\, l’alliance française des pôles santé BioValley France\, Eurobiomed\, Lyonbiopôle Auvergne-Rhône-Alpes et Medicen Paris Region\, vous convie\, le 04 Juillet 2025 à un webinaire de présentation par Bpifrance de l’appel à projets « Soutenir l’innovation dans la stérilisation et la conception de DM respectueux de l’environnement ». \n			\n			\n				\n				\n				\n				\n			\n				\n				\n				\n				\n				\n				\n				\n				\n				\n				\n				Programme\n			\n				\n				\n				\n				\n				\n				\n				\n					\n			\n				\n			\n		   \n				 12h30\n				   		\n					 12h30\n					\n					\n					\n						Introduction\n						 \nM. Alexandre BENOIT- Direction Générale des Entreprises \n\n						\n						\n						\n				\n				\n					\n					\n				\n			\n				 12h35\n				   		\n					 12h35\n					\n					\n					\n						Présentation de l’appel à projets\n						 \nM. Adrien BOULIC & Mme. Peggy REMATIER - Bpifrance \n\n						\n						\n						\n				\n				\n					\n					\n				\n			\n				 13h10\n				   		\n					 13h10\n					\n					\n					\n						Session de Q&A\n						\n						\n						\n						\n				\n				\n					\n					\n				\n			\n		\n		\n				\n			\n			\n				\n				\n				\n				\n			\n				\n				\n				\n				\n				\n				\n				\n				\n				\n				\n				Plus d’informations sur l’appel à projets ici.
URL:https://www.eurobiomed.org/evenement/webinaire-enosis-presentation-de-lappel-a-projets-du-plan-france-2030-soutenir-linnovation-dans-la-sterilisation-et-la-conception-de-dm-respectueux-de-lenvironnement/
LOCATION:Webinaire\, Webinaire
CATEGORIES:Évènement expert
ATTACH;FMTTYPE=image/png:https://www.eurobiomed.org/wp-content/uploads/2025/06/20250704_Webinaire_ENOSIS_Bpi-2.png
END:VEVENT
BEGIN:VEVENT
DTSTART;TZID=Europe/Paris:20250717T170000
DTEND;TZID=Europe/Paris:20250717T183000
DTSTAMP:20260422T191712
CREATED:20250613T132427Z
LAST-MODIFIED:20250613T132433Z
UID:27681-1752771600-1752777000@www.eurobiomed.org
SUMMARY:Webinar - Shifting gears from rigorous execution to strategic thinking... and back
DESCRIPTION:Do you want to improve in making better strategic decisions in a VUCA\, multi-stakeholder world? Then join us for this hands-on webinar ! \nIn today’s health innovation landscape—where science\, technology and capital move fast—the leaders who thrive are those who can shift seamlessly between executional focus and strategic foresight. \nThis session introduces a practical thinking framework\, grounded in the 6 Elements of Decision Quality\, to help you recognize when it’s time to zoom out—and when to double down. \n  \nYou’ll learn how to: \n\nSpot the triggers that signal a need to reassess your direction\nAvoid common failure modes that derail strategic thinking\nClarify your strategic options using proven decision analysis tools\nReturn to execution with renewed focus—aligned with both near-term goals and long-term ambition\n\n  \nThe team from Strategic Decisions Group will share real-life examples where promising initiatives hit serious roadblocks. Not because the challenges were too complex\, but because the teams missed the signal to pause and think strategically. You’ll see how applying this framework can help catch those signals earlier\, sharpen strategic thinking\, and support better decision-making in real time. \n  \nBusiness examples of the 6 Elements will be around: \n\nPortfolio focus – What bets should we double down on now?\nProduct development strategy & business case validation – Are we developing the right thing\, for the right need?\nMarket prioritization & launch sequencing – Where should we go first—and why?\nFunding risk navigation – What are the viable paths to secure our next round?\nExit strategy – What is the right timepoint for seeking a buyer or partner?\nGo-to-market – How do we enter best?\nLong-term vision – What does it really take to achieve our goals?\n\n  \nFor the Q&A session of the webinar\, Eurobiomed will reach out ahead of the meeting\, to understand best your current strategic challenges. 
URL:https://www.eurobiomed.org/evenement/webinar-shifting-gears-from-rigorous-execution-to-strategic-thinking-and-back/
LOCATION:Webinaire\, Webinaire
CATEGORIES:Évènement expert
ATTACH;FMTTYPE=image/png:https://www.eurobiomed.org/wp-content/uploads/2025/06/CellComp-VF-post-Linkedin.png
END:VEVENT
BEGIN:VEVENT
DTSTART;TZID=Europe/Paris:20250718T123000
DTEND;TZID=Europe/Paris:20250718T133000
DTSTAMP:20260422T191712
CREATED:20250711T075503Z
LAST-MODIFIED:20250711T081432Z
UID:28349-1752841800-1752845400@www.eurobiomed.org
SUMMARY:Webinar - Information about Sachs Autumn Life Sciences Week
DESCRIPTION:Take part in our informative webinar on Sachs Autumn Life Sciences Week 2025 ! \nHesitating to get started? Come behind the scenes of the event through the testimonials of two participating companies in 2024: \n\n\nMaeva Dufies from Roca Therapeutics \n\n\nFrançoise Cailler from Surgimab \n\n\nThey will share their feedback\, the concrete benefits of their participation\, and their advice on how to maximize your impact at this must-attend healthcare investment event. An ideal opportunity to ask any questions you may have about the procedures\, highlights and support offered by Eurobiomed.
URL:https://www.eurobiomed.org/evenement/webinar-information-about-sachs-autumn-life-sciences-week/
LOCATION:Webinaire\, Webinaire
CATEGORIES:Évènement expert
ATTACH;FMTTYPE=image/png:https://www.eurobiomed.org/wp-content/uploads/2025/07/CellComp-VF-post-Linkedin.png
END:VEVENT
END:VCALENDAR