BEGIN:VCALENDAR
VERSION:2.0
PRODID:-//Eurobiomed - ECPv6.10.3//NONSGML v1.0//EN
CALSCALE:GREGORIAN
METHOD:PUBLISH
X-WR-CALNAME:Eurobiomed
X-ORIGINAL-URL:https://www.eurobiomed.org
X-WR-CALDESC:Évènements pour Eurobiomed
REFRESH-INTERVAL;VALUE=DURATION:PT1H
X-Robots-Tag:noindex
X-PUBLISHED-TTL:PT1H
BEGIN:VTIMEZONE
TZID:Europe/Paris
BEGIN:DAYLIGHT
TZOFFSETFROM:+0100
TZOFFSETTO:+0200
TZNAME:CEST
DTSTART:20260329T010000
END:DAYLIGHT
BEGIN:STANDARD
TZOFFSETFROM:+0200
TZOFFSETTO:+0100
TZNAME:CET
DTSTART:20261025T010000
END:STANDARD
END:VTIMEZONE
BEGIN:VEVENT
DTSTART;TZID=Europe/Paris:20260115T083000
DTEND;TZID=Europe/Paris:20260115T103000
DTSTAMP:20260422T214206
CREATED:20251205T131604Z
LAST-MODIFIED:20260105T133305Z
UID:31479-1768465800-1768473000@www.eurobiomed.org
SUMMARY:Petit déjeuner - Les sources de financements non dilutifs en innovation santé
DESCRIPTION:Dans un contexte où l’innovation en santé nécessite des investissements importants dès les premières étapes\, identifier les bons leviers de financement est un enjeu stratégique pour chaque porteur de projet. Entre les exigences réglementaires\, les cycles de développement longs et la compétition technologique\, l’accès à des financements adaptés peut faire toute la différence dans la réussite d’une startup ou d’un projet de R&D. \nC’est dans cette dynamique qu’Eurobiomed en partenariat avec Bpifrance et avec le soutien de F.Initiatives\, un petit déjeuner dédié aux financements non dilutifs. Cet événement vise à offrir un éclairage concret et opérationnel sur l’ensemble des dispositifs mobilisables pour donner un coup d’accélérateur à vos innovations en santé. \nNous y aborderons les principales aides et opportunités : premiers dispositifs d’appui à la création de startup\, CIR\, CII\, statut JEI\, ainsi que les appels à projets régionaux\, nationaux et européens. L’objectif : vous permettre d’identifier les mécanismes les plus pertinents selon la maturité et les besoins de votre projet. \nCe rendez-vous sera aussi un moment d’échanges privilégiés avec des experts de l’écosystème\, dans un format convivial propice aux questions\, partages d’expériences et rencontres professionnelles. \nCette matinée conviviale est réservée aux membres\, partenaires et aux entreprises innovantes. \nProgramme: \n\n8h30: Accueil des participants\n9h: Mot de bienvenue; Emmanuel Le Bouder\, Eurobiomed\n9h05: Panorama des premières aides régionales Bpifrance; Arthur Sagrandi\, Bpifrance\n9h25: Les dispositifs de soutien à la R&D (CIR\, CII\, JEI); Clémence Demarez\, F.Initiatives\n9h45: Les aides directes au national; Emmanuel Le Bouder\, Eurobiomed\n10h05: Retour d’expérience d’une entreprise lauréaté; Pierre Berthet-Rayne\, Caranx Medical
URL:https://www.eurobiomed.org/evenement/petit-dejeuner-les-sources-de-financements-non-dilutifs-en-innovation-sante/
LOCATION:Immeuble Plaza 455 Promenade des Anglais 7e etage salle convivialité Nice\, Nice\, France
CATEGORIES:Évènement expert
ATTACH;FMTTYPE=image/png:https://www.eurobiomed.org/wp-content/uploads/2025/12/PDJ-financements-150126-1.png
END:VEVENT
BEGIN:VEVENT
DTSTART;TZID=Europe/Paris:20260123T110000
DTEND;TZID=Europe/Paris:20260123T123000
DTSTAMP:20260422T214206
CREATED:20260120T090509Z
LAST-MODIFIED:20260121T110321Z
UID:33164-1769166000-1769171400@www.eurobiomed.org
SUMMARY:Webinaire Enosis : ANR Labcom et Chaire Industrielle
DESCRIPTION:Enosis Santé\, l’alliance française des pôles de compétitivité santé et l’ANR vous convient à un webinaire de présentation des dispositifs ANR Labcom et Chaire Industrielle.Ce webinaire présentera les dispositifs ANR LabCom et Chaire Industrielle\, deux appels à projets destinés à soutenir les partenariats entre laboratoires académiques et entreprises.Une occasion pour comprendre les opportunités de financement\, partager des retours d’expérience et maximiser l’impact de vos projets collaboratifs. \n			\n			\n				\n				\n				\n				\n			\n				\n				\n				\n				\n				\n				\n				\n				\n				\n				\n				Programme\n			\n				\n				\n				\n				\n				\n				\n				\n					\n			\n				\n			\n		   \n				 \n				   		\n					 \n					\n					\n					\n						11h00 – 11h05 \n						 \nAccueil & Introduction \n\n						\n						\n						\n				\n				\n					\n					\n				\n			\n				 \n				   		\n					 \n					\n					\n					\n						11h05 – 11h25\n						 \nPrésentation des dispositifs ANR Labcom et Chaire industrielle ainsi que des critères attendus \n\n						\n						\n						\n				\n				\n					\n					\n				\n			\n				 \n				   		\n					 \n					\n					\n					\n						11h25 – 11h35\n						 \nPrésentation de l’accompagnement des pôles de compétitivité et retour d’expérience sur ces dispositifs \n\n						\n						\n						\n				\n				\n					\n					\n				\n			\n				 \n				   		\n					 \n					\n					\n					\n						11h35 – 11h50\n						 \nTémoignage d’un projet lauréat de l’ANR Labcom \n\n						\n						\n						\n				\n				\n					\n					\n				\n			\n				 \n				   		\n					 \n					\n					\n					\n						11h50– 12h20\n						 \nQuestions/réponses \n\n						\n						\n						\n				\n				\n					\n					\n				\n			\n		\n		\n				\n			\n			\n				\n				\n				\n				\n			\n				\n				\n				\n				\n				\n				\n				\n				\n				\n				\n				Intervenant\n			\n				\n				\n				\n				\n				\n				\n				\n					\n			\n				\n			\n		   \n				 \n				   		\n					 \n					\n					\n					\n						Sylvain CAILLOL\n						 \nDirecteur de Recherche CRNS\, Responsable Scientifique ANR – Direction de la Recherche Partenariale \n\n						\n						\n						\n				\n				\n					\n					\n				\n			\n		\n		\n				\n			\n			\n				\n				\n				\n				\n			\n				\n				\n				\n				\n				\n				\n				\n				\n				\n				\n				Plus d’informations sur l’appel à projets
URL:https://www.eurobiomed.org/evenement/webinaire-enosis-anr-labcom-et-chaire-industrielle/
LOCATION:Webinaire\, Webinaire
CATEGORIES:Évènement expert
ATTACH;FMTTYPE=image/png:https://www.eurobiomed.org/wp-content/uploads/2026/01/ANR-2026-Labcom.png
END:VEVENT
BEGIN:VEVENT
DTSTART;TZID=Europe/Paris:20260129T123000
DTEND;TZID=Europe/Paris:20260129T133000
DTSTAMP:20260422T214206
CREATED:20260112T153611Z
LAST-MODIFIED:20260112T153616Z
UID:32760-1769689800-1769693400@www.eurobiomed.org
SUMMARY:Webinaire - Participer aux conventions investisseurs & conférences internationales avec Eurobiomed
DESCRIPTION:Découvrez les opportunités proposées par Eurobiomed en 2026 pour les conventions d’affaires et les conventions internationales. \nEurobiomed vous invite à un webinaire dédié à son offre d’accompagnement sur les conventions investisseurs et conférences à l’international. À cette occasion\, découvrez les événements ciblés\, les missions collectives proposées ainsi que les opportunités de visibilité et de rencontres business à l’international. Le webinaire sera également ponctué de témoignages d’entreprises ayant participé à une ou plusieurs de ces opérations et partageant leur retour d’expérience. \n  \nPROGRAMME\n			\n				\n				\n				\n				\n				\n				\n				\n					\n			\n				\n			\n		   \n				 \n				   		\n					 \n					\n					\n					\n						Présentation de l’offre Eurobiomed dédiée aux conventions investisseurs et conférences à l’international\n						\n						\n						\n						\n				\n				\n					\n					\n				\n			\n				 \n				   		\n					 \n					\n					\n					\n						Panorama des événements et missions internationales à venir\n						\n						\n						\n						\n				\n				\n					\n					\n				\n			\n				 \n				   		\n					 \n					\n					\n					\n						Retours d’expérience d’entreprises participantes \n						 \n\nCelia Belline - CEO Cilcare\nEmmanuelle Bettendorf - Senior Business Developer Vect-Horus\nFrédéric Zampatti - CEO Algenscribe\nYoann Valorge - CEO NxNeuro\n\n\n						\n						\n						\n				\n				\n					\n					\n				\n			\n				 \n				   		\n					 \n					\n					\n					\n						Temps d'échanges et Q&A
URL:https://www.eurobiomed.org/evenement/webinaire-participer-aux-conventions-investisseurs-conferences-internationales-avec-eurobiomed/
LOCATION:Webinaire\, Webinaire
CATEGORIES:Évènement expert
ATTACH;FMTTYPE=image/png:https://www.eurobiomed.org/wp-content/uploads/2026/01/CellComp-VF-post-Linkedin-2.png
END:VEVENT
END:VCALENDAR