BEGIN:VCALENDAR
VERSION:2.0
PRODID:-//Eurobiomed - ECPv6.10.3//NONSGML v1.0//EN
CALSCALE:GREGORIAN
METHOD:PUBLISH
X-ORIGINAL-URL:https://www.eurobiomed.org
X-WR-CALDESC:Évènements pour Eurobiomed
REFRESH-INTERVAL;VALUE=DURATION:PT1H
X-Robots-Tag:noindex
X-PUBLISHED-TTL:PT1H
BEGIN:VTIMEZONE
TZID:Europe/Paris
BEGIN:DAYLIGHT
TZOFFSETFROM:+0100
TZOFFSETTO:+0200
TZNAME:CEST
DTSTART:20250330T010000
END:DAYLIGHT
BEGIN:STANDARD
TZOFFSETFROM:+0200
TZOFFSETTO:+0100
TZNAME:CET
DTSTART:20251026T010000
END:STANDARD
END:VTIMEZONE
BEGIN:VEVENT
DTSTART;TZID=Europe/Paris:20250916T133000
DTEND;TZID=Europe/Paris:20250916T193000
DTSTAMP:20260421T192215
CREATED:20250709T200435Z
LAST-MODIFIED:20250724T125010Z
UID:28315-1758029400-1758051000@www.eurobiomed.org
SUMMARY:Organoïdes\, tumoroïdes\, organes sur puce : comment passer du laboratoire à la production industrielle ?
DESCRIPTION:A la croisée de la biologie\, de la physique\, de la chimie et de l’ingénierie\, les organoïdes\, les tumoroïdes et les organes sur puce représentent le futur de la médecine et de la recherche. Il reste néanmoins de nombreux défis à relever pour passer à une production et à une utilisation industrielle. \nAD’OCC et Eurobiomed vous invitent le 16 septembre au CEA Occitanie\, Labège à une après-midi d’échanges et de réflexion autour des défis\, solutions et initiatives régionales sur ces sujets d’avenir dans le cadre de la filière Biothérapie Innovation Occitanie. \nPourquoi Participer ? \n\nComprendre les enjeux technologiques\, industriels et réglementaires des organoïdes\, tumoroïdes et organes sur puce\nIdentifier les expertises et acteurs présents en Occitanie\nCréer des synergies entre chercheurs\, industriels et institutions\nPartager les retours d’expérience de projets en cours\n\nAu Programme : \n\n13h00 : Accueil café\n13h30 : Mots d’accueil (AD’OCC & Eurobiomed)\n13h40 : Panorama scientifique & enjeux – Louis CASTEILLA (OBBI)\, Anne-Marie GUE (PEPR MED-OoC)\n14h25 : Accès aux échantillons & cadre réglementaire – Jeanne-Hélène DI DONATO (3cR réseau pour les ressources biologiques)\, Marianne NAVARRA (CHU Toulouse)\n15h10 : Retour d’expérience d’entreprises : les verrous et étapes clés pour industrialiser\n\nSylvie PUCHEU\, Cilcare & Philippe NERIN\, SATT AxLR (organoïdes)\nEmilie DECAUP\, Uropshere (tumoroïdes)\nIntervenant à confirmer (organes sur puce)\n\n\n15h45 : Table-ronde – Industrialisation : Enjeux de standardisation\, caractérisation\, qualité – Louis CASTEILLA (OBBI)\, Nicolas GATIMEL (CHU Toulouse)\, Albano MELI et Laetitia LINARES (plateforme POM)\, Céline DERAISON et Nathalie VERGNOLLE (plateforme TOP)\, Pierre CORDELIER (CRCT)\, Emilie DECAUP (Urosphere)\, Sylvie PUCHEU (Cilcare)\, Yann DE BOYSSON (CEA)\n16h45 : Conclusion & perspectives \n17h00 :  Pause & networking\n17h30 : Signature du contrat de filière santé de la Région Occitanie\n18h30 : Cocktail & Networking\n\n\nEvènement co-organisé par :\n\n\n\nEn partenariat avec :
URL:https://www.eurobiomed.org/evenement/organoides-tumoroides-organes-sur-puce-comment-passer-du-laboratoire-a-la-production-industrielle/
LOCATION:CEA Occitanie\, 51 rue de l'innovation\, Labège\, 31670
CATEGORIES:Rencontre thématique
ATTACH;FMTTYPE=image/png:https://www.eurobiomed.org/wp-content/uploads/2025/07/Inno-VF-post-Linkedin.png
END:VEVENT
BEGIN:VEVENT
DTSTART;TZID=Europe/Paris:20250925T090000
DTEND;TZID=Europe/Paris:20250925T154500
DTSTAMP:20260421T192215
CREATED:20250627T094112Z
LAST-MODIFIED:20250923T074906Z
UID:28126-1758790800-1758815100@www.eurobiomed.org
SUMMARY:Rencontre Thématique : L’optique et la photonique au service de la recherche biomédicale et la santé
DESCRIPTION:Data\, Optique et photonique au service de la recherche biomédicale et de la santé : Nouvelles perspectives et applications Innovantes   \n\n\n\n\nRecherche biomédicale\, imagerie\, diagnostic\, IA médicale… La convergence entre optique/photonique et data ouvre un champ d’applications inédites en santé. \nAktantis & Eurobiomed vous invitent à une journée unique au croisement de la DeepTech photonique\, de la data au service de la santé numérique \nL’objectif est d’accroître l’innovation\, favoriser l’émergence de startups\, de cas d’usage et accroître la lisibilité des besoins métiers et des enjeux à relever  ainsi que les conditions de leur mise en œuvre. \n🔬 Tables rondes\, keynotes\, pitchs de startups\, RDV B2B et ateliers concrets :\n📅 Une journée pour explorer\, connecter et déclencher l’innovation autour des technologies de rupture en santé ! \n  \n\n\nPROGRAMME\n\n\n\n\n\n9h15: Accueil café\n9h45: Mot de bienvenue par les directeurs de Eurobiomed\, AKTANTIS\n10h: Key opinion leader – Histologie intra-opératoire instantanée utilisant le Raman stimulé : développement en microscopie et en endoscopie – Hervé Rigneault\, Institut Fresnel\n10h30: Table ronde 1 « Optique et photonique\, quelles opportunités pour le diagnostic\, la thérapie et la prise en charge patient ?« \n\nAvec le regard croisé de  industriels\,  académique et clinicien:\n\nLaurent Meilhac\, CEO CLARTEIS\nHervé Rigneault\, Institut Fresnel\nStefania Residori\, Présidente HOASYS\nArthur Gaveau\, CEO A5 Science \n\n\n\n\n11h15 à 11h35: Pause\n11h35: Table ronde « L’analyse de la data dans la santé » avec\n\n« Expertise Data entre hôpital et utilisateur » – Pierre Michel\, COO de Ana Healthcare\n« Better\, Stronger\, Faster Biomarkers » – Guillaume LAMAZOU\, Oncology AI expert EURANOVA\n\n\n12h10: Financez votre projet photonique et santé\n\n« MOVE2DIGITAL: Réduisez le risque financier et testez votre projet IA et santé sur son marché » – P Bendahan\, AKTANTIS\n\n\n12h30: Déjeuner networking\n13h40 : RDV B2B présentiel*La prise de RDV sera possible 15 jours avant le Jour J – Via la plateforme de RDV B2match AKTANTIS\n15H30 – Fin\n\n\n\n\n\n\n  \n  \n\nPlateforme b2match\n\nMembres AKTANTIS et Eurobiomed : gratuit\nNon membres : 120€ HT (à régler sur place par chèque ou virement IBAN avec mention « participation Rencontre Photonique et santé 25/9/25 » auprès d’Aktantis)
URL:https://www.eurobiomed.org/evenement/loptique-et-la-photonique-au-service-de-la-recherche-biomedicale-et-la-sante/
LOCATION:Mines Paris – PSL – Cemef\, 1 Rue Claude Daunesse\, Sophia Antipolis\, 06904\, France
CATEGORIES:Rencontre thématique
ATTACH;FMTTYPE=image/png:https://www.eurobiomed.org/wp-content/uploads/2025/06/Visuel-RT-Optique-et-photonique.png
END:VEVENT
END:VCALENDAR